0.119959961
0.023406822
0.023406822
-0.119959961
614982.0371
4655310.887
