0.121403057
0.014126901
0.014126901
-0.121403057
615512.2711
4655442.416
