0.318615828242389
-0.0297313638001447
-0.0297313638001447
-0.318615828242389
597085.098224105
4786795.36057665
