-0.0285935493382889
0.0440302048171348
0.0440302048171348
0.0285935493382889
624949.299163376
4764542.92682779
