-0.0285935493382889
0.0440302048171348
0.0440302048171348
0.0285935493382889
625109.660784899
4764304.53884716
