-0.0144709611803924
-0.0504662390367617
-0.0504662390367617
0.0144709611803924
625287.792427002
4763842.68130666
