-0.0144709611803924
-0.0504662390367617
-0.0504662390367617
0.0144709611803924
625525.720963199
4764732.08738457
