-0.0522123995068343
-0.00548774432155181
-0.00548774432155181
0.0522123995068343
621310.030959281
4763022.1915435
