-0.0522123995068343
-0.00548774432155181
-0.00548774432155181
0.0522123995068343
623126.603695947
4763132.48976602
