-0.0522123995068343
-0.00548774432155181
-0.00548774432155181
0.0522123995068343
623489.517145731
4763152.559853
