-0.0522123995068343
-0.00548774432155181
-0.00548774432155181
0.0522123995068343
624943.915558993
4763242.28499282
