-0.00639814052877023
-0.0521086729611694
-0.0521086729611694
0.00639814052877023
621371.949185397
4763402.42288775
