-9.64377503635122E-18
-0.0525
-0.0525
9.64377503635122E-18
621343.90125
4761047.61625
