0.0396222529616955
-0.0344430990220016
-0.0344430990220016
-0.0396222529616955
621242.346605557
4760362.30751469
