-0.0358049139032812
-0.0383960693350064
-0.0383960693350064
0.0358049139032812
622482.631294167
4759272.87423673
