0.00274763770275456
-0.0524280505746151
-0.0524280505746151
-0.00274763770275456
621474.387134741
4757539.46373982
