0.0278207613722432
-0.0445225250482124
-0.0445225250482124
-0.0278207613722432
622224.631700359
4756035.91885444
