0.0278207613722432
-0.0445225250482124
-0.0445225250482124
-0.0278207613722432
621723.403458434
4756825.09525753
