0.00639814052877025
-0.0521086729611694
-0.0521086729611694
-0.00639814052877025
605702.560181906
4744139.37232951
