0.0337463495085433
-0.0402173332637464
-0.0402173332637464
-0.0337463495085433
646291.000881706
4717931.04459453
