0.0337463495085433
-0.0402173332637464
-0.0402173332637464
-0.0337463495085433
646094.146902482
4718160.16721008
