3
0
0
-3
584696.755
4801921.601
