3
0
0
-3
593916.218
4801962.576
