3
0
0
-3
597636.784
4801995.356
