3
0
0
-3
606311.853
4792857.844
