3
0
0
-3
600837.541
4792939.795
