3
0
0
-3
574072.416
4792710.333
