3
0
0
-3
572748.837
4783794.721
