3
0
0
-3
589293.158
4783831.364
