3
0
0
-3
623352.84
4783886.329
