3
0
0
-3
632916.667
4784216.116
