3
0
0
-3
662789.944
4776063.045
