3
0
0
-3
657604.957
4776209.617
