3
0
0
-3
605617.68
4775027.88
