3
0
0
-3
564247.716
4774725.575
