3
0
0
-3
553071.597
4774688.932
