3
0
0
-3
547181.174
4765308.32
