3
0
0
-3
556964.859
4765363.285
