3
0
0
-3
564330.105
4765491.535
