3
0
0
-3
573692.395
4765583.143
