3
0
0
-3
579701.849
4765748.037
