3
0
0
-3
595678.204
4765876.287
