3
0
0
-3
624589.542
4766169.431
