3
0
0
-3
633805.26
4766261.039
