3
0
0
-3
643295.801
4766425.932
