3
0
0
-3
663266.244
4766957.256
