3
0
0
-3
676595.2
4758327.826
