3
0
0
-3
656734.686
4757778.181
