3
0
0
-3
645283.743
4757558.323
