3
0
0
-3
642828.662
4757430.072
